BEGIN:VCALENDAR
VERSION:2.0
PRODID:-//Forward Health Foundation - ECPv6.15.20//NONSGML v1.0//EN
CALSCALE:GREGORIAN
METHOD:PUBLISH
X-WR-CALNAME:Forward Health Foundation
X-ORIGINAL-URL:https://forwardhealthfoundation.org
X-WR-CALDESC:Events for Forward Health Foundation
REFRESH-INTERVAL;VALUE=DURATION:PT1H
X-Robots-Tag:noindex
X-PUBLISHED-TTL:PT1H
BEGIN:VTIMEZONE
TZID:America/Chicago
BEGIN:DAYLIGHT
TZOFFSETFROM:-0600
TZOFFSETTO:-0500
TZNAME:CDT
DTSTART:20250309T080000
END:DAYLIGHT
BEGIN:STANDARD
TZOFFSETFROM:-0500
TZOFFSETTO:-0600
TZNAME:CST
DTSTART:20251102T070000
END:STANDARD
BEGIN:DAYLIGHT
TZOFFSETFROM:-0600
TZOFFSETTO:-0500
TZNAME:CDT
DTSTART:20260308T080000
END:DAYLIGHT
BEGIN:STANDARD
TZOFFSETFROM:-0500
TZOFFSETTO:-0600
TZNAME:CST
DTSTART:20261101T070000
END:STANDARD
BEGIN:DAYLIGHT
TZOFFSETFROM:-0600
TZOFFSETTO:-0500
TZNAME:CDT
DTSTART:20270314T080000
END:DAYLIGHT
BEGIN:STANDARD
TZOFFSETFROM:-0500
TZOFFSETTO:-0600
TZNAME:CST
DTSTART:20271107T070000
END:STANDARD
END:VTIMEZONE
BEGIN:VEVENT
DTSTART;TZID=America/Chicago:20260501T080000
DTEND;TZID=America/Chicago:20260531T163000
DTSTAMP:20260422T203932
CREATED:20230426T165952Z
LAST-MODIFIED:20260421T151747Z
UID:38239-1777622400-1780245000@forwardhealthfoundation.org
SUMMARY:Cornerstone Employee Campaign
DESCRIPTION:Our Essentia Health employee Cornerstone Campaign will run May 2026 \n\nHistory:  The Cornerstone Fund was developed in 2014 in response to the desire for there to be employee-funded and determined projects and enhancements throughout the Deer River and Grand Rapids facilities.  The name “Cornerstone” was derived from the first cornerstone laid in the original hospital building project in 1958; a project that was community-led and defines the heart and power of determination in Deer River and surrounding areas. \n\nPrevious projects/funded items have been:\n\nIV Start Chair for Radiology\nVein Finder for Lakewood Surgery\nMicroscope for Lab\nBlanket warmer for Radiology\nBenches along outdoor walkways\nHospitality cart in the hospital\nDigital clocks for ED\nThe Gazebo and patio outside Comstock Court Apartments\nThe facelift to Homestead\, including painted walls\, furniture\, and décor in the sitting room and front porch area\nThe Emergency Dept waiting room updates\nBladder scanner\nPharmacy mixing hood\nOver the bed hospital tables\nDoppler monitors\nThe handicap door openers on the public restrooms near the main entrance\nElectronic piano for HRLC residents\nBilirubin meter\nRehab dept waiting room chairs\n\n\n\n\n\n\nWhat is it?  This fund is EMPLOYEE-LED\, EMPLOYEE-RUN\, and EMPLOYEE-FUNDED with the Foundation simply acting as the fiscal agent of the funds and assisting with campaigning\, promotion and project execution.\n\n\nHow does it work?   A campaign is held to solicit project ideas from employees that can enhance the patient experience or improve the delivery of care. Then\, Cornerstone donors select the project(s) and/or item(s)  from those submissions to be funded.  This campaign also works to offer employees the opportunity to give to the fund through a one-time donation\, or payroll deduction in $1 increments.  The Forward Health Foundation assists with holding these funds\, managing the tax-deductible receipts\, and assisting with project execution.  This year\, Forward Health Foundation will match funding for all new pledges!\n\n\nWhen does this take place? The 2026 campaign will run through May with information about how you can participate.\n\nSubmit your ideas for projects for the Deer River or Grand Rapids locations! \n\nTo submit an online project idea\, CLICK HERE.\nClick to view and print a paper submission form: 2026 Cornerstone idea slip\n\nBecome a Cornerstone Employee Donor! \n\nClick to view and print a Cornerstone Pledge Card: 2026 Pledge\n\nThe pledge must be printed and signed for authorization for payroll deduction.\n\n\n\nLearn more about the Cornerstone Employee Giving Fund! \n\nClick to view the Cornerstone Brochure: 2026 Cornerstone Brochure
URL:https://forwardhealthfoundation.org/event/cornerstone-employee-campaign/
LOCATION:Minnesota
ATTACH;FMTTYPE=image/png:https://forwardhealthfoundation.org/wp-content/uploads/2023/04/Screenshot-47.png
END:VEVENT
BEGIN:VEVENT
DTSTART;TZID=America/Chicago:20260731T183000
DTEND;TZID=America/Chicago:20260731T203000
DTSTAMP:20260422T203932
CREATED:20241118T233852Z
LAST-MODIFIED:20260421T144152Z
UID:38695-1785522600-1785529800@forwardhealthfoundation.org
SUMMARY:Evening with Meaning
DESCRIPTION:SAVE THE DATE and JOIN US: \nThursday\, July 31st\, 2026\, at 6:30 PM to 8:30 PM at Malbay Estate\, located in Cohasset\, MN for our “Evening with Meaning” in support of Forward Health Foundation. Tickets will go on sale on 1 June 2026. You can purchase tickets online or at the Foundation office for $100 each. \nThis will be a (primarily) outdoor\, extended social hour event offering the opportunity for our community to learn more about our work\, partner in our mission\, and get a sneak peek of this stunning venue. Enjoy a social evening with gourmet butler pass hors’d oeuvres\, live music\, and auction items\, while you sit by the fire enjoying the majestic sunset at Malbay Estate. Cocktail attire is encouraged. \nCheck back as details are solidified and updates are posted. \nThank you for your on-going support and partnership in our mission! \nThank you to event sponsors:  Essentia Health (Platinum) Blandin Foundation (Bronze) Paul Bunyan (Gold) Northern Star Cooperative (Bronze) \nFor sponsorship opportunities\, view our 2026 Sponsor Form here. \n 
URL:https://forwardhealthfoundation.org/event/evening-with-meaning/
LOCATION:Malbay Estate\, 31122 Malbay Road\, Cohasset\, Minnesota\, 55721
ATTACH;FMTTYPE=image/jpeg:https://forwardhealthfoundation.org/wp-content/uploads/2024/11/Malbay-Fire-landscape.jpg
END:VEVENT
BEGIN:VEVENT
DTSTART;TZID=America/Chicago:20260808T090000
DTEND;TZID=America/Chicago:20260808T130000
DTSTAMP:20260422T203932
CREATED:20240924T144213Z
LAST-MODIFIED:20260422T163556Z
UID:38671-1786179600-1786194000@forwardhealthfoundation.org
SUMMARY:Party in the Park - 2026
DESCRIPTION:Join us for our Party in the Park event on Saturday\, August 8th\, 2026\, at the WHITE OAK ANTIQUE TRACTOR CLUB grounds\, 1.5 miles north of Deer River on Hwy 6!  We will run the event from 9:00 am – 1:00 pm and it is free to all community members! \nClick here to view drone footage of our 2024 event! \nClick here to view drone footage of our 2022 event! \nClick here to read news about our 2022 and 2023 events. \nWe will be posting updates\, timelines\, and the days’ events as they are solidified – this is an evolving list. \n\nFree Pancake Breakfast – 9:00am – 10:30am\nVendors Open – 9:00am – 1:00pm\nFood Vendor Trucks\, Concessions\, and Treats – 9:00am – 1:00pm\nJust for Kix Dance – 9:30am – 10:00am\nLive Music by The Jammers – 10:00am – 1:00pm\nLaurallons – 10:00am – 1:00pm\nNorthern Dream Gymnastics – 11:00am – 11:30am\nBike Drawings at Registration Tent – 12:00pm – 12:15pm\n\n  \nAlso Included in Party in the Park 2025: \n\nFirst Call for Help\nFree Range Food Co-op\nKootasca Head Start\nRapids Radio/KOZY\nISD #317 – FSCS and PTKS\nItasca County SWAT\n New Beginnings\nStep-Up\nSwooning Loon Fly Fishing\nSmokey the Bear\nDeer River Tech Hub\nShellbie Thompson Face Paint\nMN State Patrol Aviation\nNorthern Star Cooperative\nMulti Agency Display Vehicles\nWhite Oak Casino\nU.S. Forest Service\nPlus many more …\n\nThank you to our event sponsors \nENBRIDGE (Elite) \nTC Energy (Elite) \nDeer River Vets Club (Gold) \nEssentia Health (Gold) \nPaul Bunyan (Gold) \nDeer River Chamber of Commerce (Silver) \nNorth Itasca Electric (Silver) \nL&M Fleet Supply (Bronze) \n\n\n\nIf you would like to partner through sponsorship\, or as a vendor or volunteer\, view our Partnership Opportunities here: 2026 Sponsor options
URL:https://forwardhealthfoundation.org/event/party-in-the-park-2025/
LOCATION:White Oak Antique Tractor Club\, 26685 State Hwy 6\, Deer River\, MN\, 56636
ATTACH;FMTTYPE=image/png:https://forwardhealthfoundation.org/wp-content/uploads/2024/09/Screenshot-380.png
END:VEVENT
END:VCALENDAR